BEGIN:VCALENDAR
VERSION:2.0
PRODID:-//Eden Tearoom &amp; Galleries - ECPv6.15.20//NONSGML v1.0//EN
CALSCALE:GREGORIAN
METHOD:PUBLISH
X-ORIGINAL-URL:https://edentearoom.com
X-WR-CALDESC:Events for Eden Tearoom &amp; Galleries
REFRESH-INTERVAL;VALUE=DURATION:PT1H
X-Robots-Tag:noindex
X-PUBLISHED-TTL:PT1H
BEGIN:VTIMEZONE
TZID:Europe/London
BEGIN:DAYLIGHT
TZOFFSETFROM:+0000
TZOFFSETTO:+0100
TZNAME:BST
DTSTART:20250330T010000
END:DAYLIGHT
BEGIN:STANDARD
TZOFFSETFROM:+0100
TZOFFSETTO:+0000
TZNAME:GMT
DTSTART:20251026T010000
END:STANDARD
BEGIN:DAYLIGHT
TZOFFSETFROM:+0000
TZOFFSETTO:+0100
TZNAME:BST
DTSTART:20260329T010000
END:DAYLIGHT
BEGIN:STANDARD
TZOFFSETFROM:+0100
TZOFFSETTO:+0000
TZNAME:GMT
DTSTART:20261025T010000
END:STANDARD
BEGIN:DAYLIGHT
TZOFFSETFROM:+0000
TZOFFSETTO:+0100
TZNAME:BST
DTSTART:20270328T010000
END:DAYLIGHT
BEGIN:STANDARD
TZOFFSETFROM:+0100
TZOFFSETTO:+0000
TZNAME:GMT
DTSTART:20271031T010000
END:STANDARD
END:VTIMEZONE
BEGIN:VEVENT
DTSTART;TZID=Europe/London:20260627T133000
DTEND;TZID=Europe/London:20260627T160000
DTSTAMP:20260423T045432
CREATED:20260321T152150Z
LAST-MODIFIED:20260415T112545Z
UID:10001304-1782567000-1782576000@edentearoom.com
SUMMARY:Dippy Desmond Donkey Watercolour Workshop Sat 27th Jun 1:30pm
DESCRIPTION:This cheeky donkey is such fun to paint in lovely loose watercolours! Join Helen Worthington from Evendawn Arts where you will be guided on how to choose and apply watercolour colours to a ready drawn-out donkey outline – so\, no need to worry about drawing anything! \nThere will be a chance to practice first\, and Helen will give you full tuition on the different ways of painting with watercolour\, so that you can successfully complete your own ‘Dippy Donkey’ painting \nPlease ensure you bring something suitable to carry your work home in – an A4 folder or envelope will be fine. \nFull tuition will be given to everyone during the class\, so beginners are welcome. This is also suitable for those with some experience\, or who have been on Helen’s classes before. \n  \nAll materials included in this session. \n  \nPlease note that if you wish to use our tearoom after the workshop you must book via our website as we cannot guarantee availability. \n  \nWe work hard to price our workshops fairly and offer good value for money. We therefore have a clear-nonrefundable & no transfers policy to ensure that we cover our costs and protect the ongoing viability of the workshop. We do appreciate that sometimes unforeseen circumstances may mean that you cannot attend a workshop and we are happy for you to send along a friend to take your place\, we will need their name and contact details prior to the workshop. \n 
URL:https://edentearoom.com/event/dippy-desmond-donkey-watercolour-workshop-sat-27th-jun-130pm/
LOCATION:Eden Tearoom & Galleries\, Course Lane\, NEWBURGH\, LANCASHIRE\, WN8 7UB\, United Kingdom
ATTACH;FMTTYPE=image/jpeg:https://edentearoom.com/wp-content/uploads/2026/03/Helen-Worthington-27-june-scaled.jpg
END:VEVENT
BEGIN:VEVENT
DTSTART;TZID=Europe/London:20260628T101500
DTEND;TZID=Europe/London:20260628T124500
DTSTAMP:20260423T045432
CREATED:20260117T115230Z
LAST-MODIFIED:20260117T115230Z
UID:10001207-1782641700-1782650700@edentearoom.com
SUMMARY:Modern Calligraphy Sun 28th June 10:15am
DESCRIPTION:Join Mellor & Rose at Eden Tearoom and Galleries in Newburgh\, Lancashire on our Modern Calligraphy Workshop on Sunday June 28th from 10:15am – 12:45pm! \nModern Calligraphy is fun to learn and relaxing to practice. Join us at Eden Tearoom and Galleries in Newburgh\, Lancashire  on our Modern Calligraphy Workshop with Spring theme this New Year and start your Calligraphy journey with this mindful\, creative pastime and art form. \nGuided by expert tutors; Lucy Mellor and Polly Mellor\, you will begin by covering the fundamentals of how to hold the dip pen\, learning the pressures and rhythms that give calligraphy its characteristic contrasting strokes before moving onto learning the upper and lower alphabet\, how to link letters\, first words and phrases. You will learn how to draw decorative illustrations and flourishes to complement your calligraphy lettering on stationery pieces. The second half of the workshop covers how to lay out greeting cards\, letter up and design a piece of wall art along with luxury stationery items. \nBOOK YOUR SPOT\n  \n \n  \nWHAT’S INCLUDED?\nIndividual Calligraphy Box with Fully comprehensive Starter Kit with Dip pen\, Nib\, Mellor & Rose Calligraphy Workbook and take home templates\, wall art and Luxe Stationery Items for your Calligraphy. Calligraphy Box is yours to use in the Workshop and keep forever (and ever!) \n• 2 Workshops Tutors; Lucy Mellor & Polly Mellor on each Workshop to ensure one-to-one tuition throughout the 2 and a half hours. \n• 2.5 Hour Workshop \n• Calligraphy Box includes: \n• Fully comprehensive Starter Kit \n• Calligraphy Workbook \n• Calligraphy Wall Art + Themed Worksheets \n• All Materials provided \n• Seasonally themed Calligraphy Stationery Gift Bag
URL:https://edentearoom.com/event/modern-calligraphy-sun-28th-june-1015am/
LOCATION:Eden Tearoom & Galleries\, Course Lane\, NEWBURGH\, LANCASHIRE\, WN8 7UB\, United Kingdom
ATTACH;FMTTYPE=image/png:https://edentearoom.com/wp-content/uploads/2026/01/Mellor-Rose-Modern-Calligraphy.png
END:VEVENT
BEGIN:VEVENT
DTSTART;TZID=Europe/London:20260628T133000
DTEND;TZID=Europe/London:20260628T153000
DTSTAMP:20260423T045432
CREATED:20260117T112457Z
LAST-MODIFIED:20260123T151735Z
UID:10001203-1782653400-1782660600@edentearoom.com
SUMMARY:Candle Making Sun 28th June 1:30pm
DESCRIPTION:Join Anita from wick-ed Candle Refills for this 2 hour candle making workshop where she will show you the simplest and quickest way to produce luxury natural soy wax scented candles and provide everything you need to do so. Within the workshop we will teach you how to make/refill your own candles and have the confidence to create your own large 250ml scented soy wax candle to take home and enjoy. (RRP approx. £35) We have a small but exceptional collection of fragrances for you to choose from\, all paraben free quality fragrance oils\, speciality blended for us by a UK supplier. \n  \nPlease note that if you wish to use Eden’s first floor Tearoom before of after the workshop\, even for drinks and cake\, you must book a table via the website as availability cannot be guaranteed. \n  \nWe work hard to price our workshop fairly and offer good value for money. We therefore have a clear non-refundable & no transfer policy to ensure that we cover our costs and protect the ongoing viability of the workshop. We do appreciate that sometimes-unforeseen circumstances may mean that you can’t attend a workshop and we are happy for you to send along a friend to take your place\, we will need their name and contact details prior to the workshop \n 
URL:https://edentearoom.com/event/candle-making-sun-28th-june-130pm/
LOCATION:Eden Tearoom & Galleries\, Course Lane\, NEWBURGH\, LANCASHIRE\, WN8 7UB\, United Kingdom
ATTACH;FMTTYPE=image/jpeg:https://edentearoom.com/wp-content/uploads/2025/05/candles.jpeg
END:VEVENT
BEGIN:VEVENT
DTSTART;TZID=Europe/London:20260725T093000
DTEND;TZID=Europe/London:20260725T120000
DTSTAMP:20260423T045432
CREATED:20260418T103932Z
LAST-MODIFIED:20260418T105725Z
UID:10001329-1784971800-1784980800@edentearoom.com
SUMMARY:Watercolour Pencil & Stitch Sat 25th July 9:30am
DESCRIPTION:Join Victoria from Little House of Victoria in this is a mixed media workshop for which you will receive a beautiful kit to take home with you and to work on in the class. \nThe kit includes beautiful watercolour pencils\, a printed panel in a choice of my designs\, a set of pure silk perle and stranded threads\, written instructions\, and of tuition throughout the workshop. \nThis workshop is completely suitable for beginners and for advanced crafters and stitchers alike. We will first colour in the printed panel with the pencils\, before adding water and watching the magic happen\, this is so therapeutic! We will then explore ways of stitching to enhance the panel\, I will provide as much guidance as possible with the stitching\, and if you haven’t stitched for a while or ever before\, that is absolutely fine. \nIn terms of design\, you can follow my examples\, or go completely off piste with your own creation\, this is very much encouraged. \nThere will be a choice of printed designs\, all measuring 24 x 24 cm\, printed on organic cotton. We will also discuss uses for your panels\, and how to take them into a project following this workshop. The embroidered panels can be framed as art\, or displayed as a wall hanging\, or applied to a number of clothing or accessories. \nKit Contents: \n\nThe materials included for you to embroider in the session\, and to take away with you:\nWatercolour pencils.\nPrinted panel\, 24cm x 24cm.\nPure silk stranded cotton and perle embroidery threads\nJohn James embroidery needle.\n\nEden Galleries is an accessible venue\, and the studio and toilets are on the ground floor. If you have any questions before the day\, then please email me at hello@littlehouseofvictoria.com \nClick Here To Book Your Place
URL:https://edentearoom.com/event/watercolour-pencil-stitch-sat-25th-july-930am/
LOCATION:Eden Tearoom & Galleries\, Course Lane\, NEWBURGH\, LANCASHIRE\, WN8 7UB\, United Kingdom
ATTACH;FMTTYPE=image/jpeg:https://edentearoom.com/wp-content/uploads/2026/04/Watercolour-Pencil-Stitch-Peace-Dove-25th-July.jpg
END:VEVENT
BEGIN:VEVENT
DTSTART;TZID=Europe/London:20260726T133000
DTEND;TZID=Europe/London:20260726T153000
DTSTAMP:20260423T045432
CREATED:20260418T114615Z
LAST-MODIFIED:20260418T114615Z
UID:10001331-1785072600-1785079800@edentearoom.com
SUMMARY:Candle Making Sun 26th July 1:30pm
DESCRIPTION:Join Anita from wick-ed Candle Refills for this 2 hour workshop where she will show you the simplest and quickest way to produce luxury natural soy wax scented candles and provide everything you need to do so. Within the workshop we will teach you how to make/refill your own candles and have the confidence to create your own large 250ml scented soy wax candle to take home and enjoy. (RRP approx. £35) We have a small but exceptional collection of fragrances for you to choose from\, all paraben free quality fragrance oils\, speciality blended for us by a UK supplier. \n  \nPlease note that if you wish to use Eden’s first floor Tearoom before of after the workshop\, even for drinks and cake\, you must book a table via the website as availability cannot be guaranteed. \n  \nWe work hard to price our workshops fairly and offer good value for money. We therefore have a clear non-refundable & no transfer policy to ensure that we cover our costs and protect the ongoing viability of the workshop. We do appreciate that sometimes-unforeseen circumstances may mean that you can’t attend a workshop and we are happy for you to send along a friend to take your place\, we will need their name and contact details prior to the workshop \n 
URL:https://edentearoom.com/event/candle-making-sun-26th-july-130pm/
LOCATION:Eden Tearoom & Galleries\, Course Lane\, NEWBURGH\, LANCASHIRE\, WN8 7UB\, United Kingdom
ATTACH;FMTTYPE=image/jpeg:https://edentearoom.com/wp-content/uploads/2025/05/candles.jpeg
END:VEVENT
BEGIN:VEVENT
DTSTART;TZID=Europe/London:20260808T130000
DTEND;TZID=Europe/London:20260808T163000
DTSTAMP:20260423T045432
CREATED:20260418T104644Z
LAST-MODIFIED:20260418T110945Z
UID:10001330-1786194000-1786206600@edentearoom.com
SUMMARY:Gel Plate Print\, Stitch\, & Embellishment Sat 8th Aug 1pm
DESCRIPTION:Join Victoria from Little house of Victoria and learn the art of printing without a press. Full step by step tuition is provided in this workshop where we will first create a printed background on fabric with gel plate printing. Natural\, botanical and abstract themes will be explored. Then we will select areas to stitch that will enhance the print\, with stitch techniques such as needle weaving and other traditional but simple stitching techniques such as couching. You will select the colour palette from a wide range of threads and beads\, all materials will be available to take with you to complete the project at home if needed. \nGel plate printing is very easy to do\, and I will guide you through each step. The print will be an abstract print\, so there is no artistic skill required. The random areas of the print will then suggest areas to work into\, and we will discuss this together\, or you have free rein to be as creative as you like. \nThis workshop also involves a few simple stitches\, and I will guide you through the steps. It is also suitable for advanced stitchers as it is possible to be creative with the printing and embroidery. The embroidered panel can be applied to a number of objects\, and you will have the materials to make yours into a needle case or a drawstring purse. \nThis workshop is suitable for beginners as all tuition will be provided. \nKit Contents: \n\nThe materials included for you to embroider in the session\, and to take away with you:\nFabric panels\, calico and cotton.\nStranded cotton embroidery threads\nPure wool threads.\nBeads and embellishments.\nJohn James embroidery needles.\n\nAll other materials that you will need will be for use within the studio\, and you will have your kit to take home to finish the project. \nThe workshop will take place at Eden Tearoom & Galleries in Newburgh\, and it is a fully accessible ground floor venue. There is a beautiful tea room upstairs\, accessible by a lift. If you have any questions before the day\, then please email me at hello@littlehouseofvictoria.com \nClick Here Yo Book Your Place
URL:https://edentearoom.com/event/gel-plate-print-stitch-embellishment-sat-8th-aug-1pm/
LOCATION:Eden Tearoom & Galleries\, Course Lane\, NEWBURGH\, LANCASHIRE\, WN8 7UB\, United Kingdom
ATTACH;FMTTYPE=image/jpeg:https://edentearoom.com/wp-content/uploads/2026/04/Gel-Print-and-Stitch-8th-Aug.jpg
END:VEVENT
BEGIN:VEVENT
DTSTART;TZID=Europe/London:20260809T133000
DTEND;TZID=Europe/London:20260809T153000
DTSTAMP:20260423T045432
CREATED:20260418T115215Z
LAST-MODIFIED:20260418T115215Z
UID:10001332-1786282200-1786289400@edentearoom.com
SUMMARY:Candle Making Sun 9th Aug 1:30pm
DESCRIPTION:Join Anita from wick-ed Candle Refills for this 2 hour workshop where she will show you the simplest and quickest way to produce luxury natural soy wax scented candles and provide everything you need to do so. Within the workshop we will teach you how to make/refill your own candles and have the confidence to create your own large 250ml scented soy wax candle to take home and enjoy. (RRP approx. £35) We have a small but exceptional collection of fragrances for you to choose from\, all paraben free quality fragrance oils\, speciality blended for us by a UK supplier. \n  \nPlease note that if you wish to use Eden’s first floor Tearoom before of after the workshop\, even for drinks and cake\, you must book a table via the website as availability cannot be guaranteed. \n  \nWe work hard to price our workshops fairly and offer good value for money. We therefore have a clear non-refundable & no transfer policy to ensure that we cover our costs and protect the ongoing viability of the workshop. We do appreciate that sometimes-unforeseen circumstances may mean that you can’t attend a workshop and we are happy for you to send along a friend to take your place\, we will need their name and contact details prior to the workshop \n 
URL:https://edentearoom.com/event/candle-making-sun-9th-aug-130pm/
LOCATION:Eden Tearoom & Galleries\, Course Lane\, NEWBURGH\, LANCASHIRE\, WN8 7UB\, United Kingdom
ATTACH;FMTTYPE=image/jpeg:https://edentearoom.com/wp-content/uploads/2025/05/candles.jpeg
END:VEVENT
BEGIN:VEVENT
DTSTART;TZID=Europe/London:20260919T093000
DTEND;TZID=Europe/London:20260919T120000
DTSTAMP:20260423T045432
CREATED:20260422T090905Z
LAST-MODIFIED:20260422T090905Z
UID:10001334-1789810200-1789819200@edentearoom.com
SUMMARY:Blanket Arm Knitting Sat 19th Sept 9:30am
DESCRIPTION:Get creative\, have fun and learn a new skill by coming along to one of AllyBobsKnit’s popular chunky wool blanket arm knitting workshops. \nYou will knit your very own chunky knit blanket from 2kg of 100% pure unspun merino wool to take home – perfect as a statement piece on your sofa\, chair or bed. The final blanket will be approximately 30” x 50” in size. \nJust choose your workshop date from the drop-down list and then select your chosen colour of wool to use during the workshop – take a look through the images to find your favourite colour! \nNo knitting experience or needles necessary! I will teach you step-by-step how to arm knit your own blanket. \nPlease wear short sleeves to keep your arms free for knitting and remove any jewellery so it doesn’t snag. \nPlease book your place as soon as possible to avoid disappointment – there are limited places with only 8 people in each class. \n£99 Per Person \n  \nClick Here To Book Your Place
URL:https://edentearoom.com/event/blanket-arm-knitting-sat-19th-sept-930am/
LOCATION:Eden Tearoom & Galleries\, Course Lane\, NEWBURGH\, LANCASHIRE\, WN8 7UB\, United Kingdom
ATTACH;FMTTYPE=image/png:https://edentearoom.com/wp-content/uploads/2025/01/ArmknittingWorkshop.png
END:VEVENT
BEGIN:VEVENT
DTSTART;TZID=Europe/London:20260919T133000
DTEND;TZID=Europe/London:20260919T160000
DTSTAMP:20260423T045432
CREATED:20260407T143105Z
LAST-MODIFIED:20260415T112315Z
UID:10001318-1789824600-1789833600@edentearoom.com
SUMMARY:Exploring Watercolour Workshop Sat 19th Sept 1:30pm
DESCRIPTION:Join Helen Worthington from Evendawn Arts in this ‘Exploring Watercolour’ Workshop. \nThis is a perfect taster workshop for anyone who’s always wanted to try watercolour painting but have been too nervous to! It’s also great for those with a small amount of experience to practice looser painting styles and build confidence. \nThe aim of this ‘Exploring Watercolours’ class is to have FUN\, and to get past the anxiety many people experience when approaching watercolour painting! There is absolutely NO DRAWING involved\, so you can simply enjoy playing with the paints\, without stressing over the outcome.  \nYou’ll explore how to use a basic set of colours and see the way they blend and harmonise on paper\, along with using different types of brushes and some more unusual tools to create fascinating effects. \nThere will be a selection of simple and enjoyable exercises\, which will offer you a great basis in watercolor painting. You may then want to explore these topics further at later date. \nThis is not the type of class for those with more advanced watercolour skills\, or those wishing to learn how to draw/paint landscapes or ‘formal’ types of work. \nAll materials included in this session. \nPlease ensure you bring something suitable to carry your work home in – an A4 folder or envelope will be fine.  \n  \nPlease note that if you wish to use Eden’s first floor Tearoom before or after the workshop\, even for drinks and cake\, you must book a table via the website as availability cannot be guaranteed.  \nPlease note that we have a clear non-refundable & no transfer policy to ensure that we cover our costs and protect the ongoing viability of the workshop. We do appreciate that sometimes-unforseen circumstances may mean that you can’t attend a workshop and we are happy for you to send along a friend to take your place\, we will need their name and contact details prior to the workshop.  \n 
URL:https://edentearoom.com/event/exploring-watercolour-workshop-sat-19th-sept-130pm/
LOCATION:Eden Tearoom & Galleries\, Course Lane\, NEWBURGH\, LANCASHIRE\, WN8 7UB\, United Kingdom
ATTACH;FMTTYPE=image/jpeg:https://edentearoom.com/wp-content/uploads/2026/01/Evendawn-Arts-Explore-Watercolour-April-26.jpg
END:VEVENT
BEGIN:VEVENT
DTSTART;TZID=Europe/London:20260920T133000
DTEND;TZID=Europe/London:20260920T153000
DTSTAMP:20260423T045432
CREATED:20260418T121007Z
LAST-MODIFIED:20260418T121007Z
UID:10001333-1789911000-1789918200@edentearoom.com
SUMMARY:Candle Making Sun 20th Sept 1:30pm
DESCRIPTION:Join Anita from wick-ed Candle Refills for this 2 hour workshop where she will show you the simplest and quickest way to produce luxury natural soy wax scented candles and provide everything you need to do so. Within the workshop we will teach you how to make/refill your own candles and have the confidence to create your own large 250ml scented soy wax candle to take home and enjoy. (RRP approx. £35) We have a small but exceptional collection of fragrances for you to choose from\, all paraben free quality fragrance oils\, speciality blended for us by a UK supplier. \n  \nPlease note that if you wish to use Eden’s first floor Tearoom before of after the workshop\, even for drinks and cake\, you must book a table via the website as availability cannot be guaranteed. \n  \nWe work hard to price our workshops fairly and offer good value for money. We therefore have a clear non-refundable & no transfer policy to ensure that we cover our costs and protect the ongoing viability of the workshop. We do appreciate that sometimes-unforeseen circumstances may mean that you can’t attend a workshop and we are happy for you to send along a friend to take your place\, we will need their name and contact details prior to the workshop \n 
URL:https://edentearoom.com/event/candle-making-sun-20th-sept-130pm/
LOCATION:Eden Tearoom & Galleries\, Course Lane\, NEWBURGH\, LANCASHIRE\, WN8 7UB\, United Kingdom
ATTACH;FMTTYPE=image/jpeg:https://edentearoom.com/wp-content/uploads/2025/05/candles.jpeg
END:VEVENT
END:VCALENDAR