BEGIN:VCALENDAR
VERSION:2.0
PRODID:-//Eden Tearoom &amp; Galleries - ECPv6.15.20//NONSGML v1.0//EN
CALSCALE:GREGORIAN
METHOD:PUBLISH
X-WR-CALNAME:Eden Tearoom &amp; Galleries
X-ORIGINAL-URL:https://edentearoom.com
X-WR-CALDESC:Events for Eden Tearoom &amp; Galleries
REFRESH-INTERVAL;VALUE=DURATION:PT1H
X-Robots-Tag:noindex
X-PUBLISHED-TTL:PT1H
BEGIN:VTIMEZONE
TZID:Europe/London
BEGIN:DAYLIGHT
TZOFFSETFROM:+0000
TZOFFSETTO:+0100
TZNAME:BST
DTSTART:20250330T010000
END:DAYLIGHT
BEGIN:STANDARD
TZOFFSETFROM:+0100
TZOFFSETTO:+0000
TZNAME:GMT
DTSTART:20251026T010000
END:STANDARD
BEGIN:DAYLIGHT
TZOFFSETFROM:+0000
TZOFFSETTO:+0100
TZNAME:BST
DTSTART:20260329T010000
END:DAYLIGHT
BEGIN:STANDARD
TZOFFSETFROM:+0100
TZOFFSETTO:+0000
TZNAME:GMT
DTSTART:20261025T010000
END:STANDARD
BEGIN:DAYLIGHT
TZOFFSETFROM:+0000
TZOFFSETTO:+0100
TZNAME:BST
DTSTART:20270328T010000
END:DAYLIGHT
BEGIN:STANDARD
TZOFFSETFROM:+0100
TZOFFSETTO:+0000
TZNAME:GMT
DTSTART:20271031T010000
END:STANDARD
END:VTIMEZONE
BEGIN:VEVENT
DTSTART;TZID=Europe/London:20260328T103000
DTEND;TZID=Europe/London:20260328T120000
DTSTAMP:20260423T063645
CREATED:20260105T124718Z
LAST-MODIFIED:20260123T152555Z
UID:10001179-1774693800-1774699200@edentearoom.com
SUMMARY:Potters Wheel Taster Sat 28th March 10.30am
DESCRIPTION:This 90-minute potters wheel taster will introduce you to the basic principles of making a small pot.  You will be shown how to prepare the clay\, centre the clay onto the potters wheel and how to manipulate the clay to create a form.  This class is taught by our professional Pottery Teachers who have years of experience and teaching.  They will give step-by-step instructions\, perform demonstrations and support you in the process.  You will get two 400g balls of clay to create two pots. \nOnce the class is finished\, the work needs 5-7 days to dry out before going into the kiln for its first firing to 1000oC.  After that we will glaze your pieces in colours you have chosen during the class and your work is then re-fired to over 1200oC.  Once cooled and wrapped\, we will contact you for collection.  The whole process takes approximately 2 weeks. \nFor your safety we advise that no open toed shoes are worn\, long hair is tied back and nails are short if possible. We will provide aprons but please wear clothes and shoes you don’t mind getting clay on. Please pass this information onto everyone you are booking places for. \nYour workshop will be run by our Pottery Teacher Christine \nPlease note these Potters Wheel Tasters are for aged 16+ only.  We run classes specifically for children during the school holidays. \nWorkshop vouchers are available for this workshop. Please email workshops@edentearoom.com for details. \nWe work hard to price our workshops competitively and provide a quality service.  Therefore\, our policy is that no workshop places can be refunded or transferred unless the place can be filled. We understand things can happen and prevent you from attending so we are happy for you to send someone in your place if necessary. If you have any queries regarding this\, please email workshops@edentearoom.com \nIf you wish to use our Tearoom\, please book via our website as we cannot guarantee availability.
URL:https://edentearoom.com/event/potters-wheel-taster-sat-28th-march-10-30am/
LOCATION:Eden Tearoom & Galleries\, Course Lane\, NEWBURGH\, LANCASHIRE\, WN8 7UB\, United Kingdom
ATTACH;FMTTYPE=image/jpeg:https://edentearoom.com/wp-content/uploads/2024/10/IMG_9504.jpeg
ORGANIZER;CN="Eden Tearoom & Galleries":MAILTO:workshops@edentearoom.com
END:VEVENT
BEGIN:VEVENT
DTSTART;TZID=Europe/London:20260327T183000
DTEND;TZID=Europe/London:20260327T203000
DTSTAMP:20260423T063645
CREATED:20260210T103016Z
LAST-MODIFIED:20260315T144818Z
UID:10001258-1774636200-1774643400@edentearoom.com
SUMMARY:Spring Wreath Fri 27th March 6:30pm
DESCRIPTION:Spring Wreath Making | Eden Tearooms\, Newburgh  \nFriday 27th March at 18.30 \nJoin us at Eden Tearoom & Gallery in Newburgh and create your own seasonal wreath\, filled with Spring bulbs and textured foliages. \nWe will show you how to embrace the best foliage of the season to create your own beautiful wreath. You’ll learn how to condition foliage\, before designing your own wreath\, brimming with rustic\, seasonal charm. \n\nClick Here To Book Your Place
URL:https://edentearoom.com/event/spring-wreath-fri-27th-march-630pm/
LOCATION:Eden Tearoom & Galleries\, Course Lane\, NEWBURGH\, LANCASHIRE\, WN8 7UB\, United Kingdom
ATTACH;FMTTYPE=image/png:https://edentearoom.com/wp-content/uploads/2026/02/Spring-wreath.png
END:VEVENT
BEGIN:VEVENT
DTSTART;TZID=Europe/London:20260327T070000
DTEND;TZID=Europe/London:20260327T210000
DTSTAMP:20260423T063645
CREATED:20260125T115242Z
LAST-MODIFIED:20260125T115242Z
UID:10001218-1774594800-1774645200@edentearoom.com
SUMMARY:Sip & Paint (a pot) Fri 27th March 7pm
DESCRIPTION:Join us at Eden for a late night sip & paint session on Friday 27th March at 7pm! \n\n\n\nDuring this 2 hour session you will paint a piece of pottery of your choice (bisque ranging from £9- £40) using our professional grade glazes. Once dried\, we will clear glaze your item and kiln fire it so that it’s ready to be collected from a future specified date! Included is a dedicated table for your group\, and advice fro our experienced pottery assistants! \nTickets are £11.55 Per Person \nPrice of ticket includes two drinks tokens and your studio fee. Drinks tokens can be used for a variety of drinks including the following: prosecco\, a selection of mocktails\, a pot of tea\, or a coffee. We will also be serving a variety of cakes to see you through the night! \nYou may arrive from 6pm to choose bisque and buy drinks before the painting starts! \nClick Here To Book!
URL:https://edentearoom.com/event/sip-paint-a-pot-fri-27th-march-7pm/
LOCATION:Eden Tearoom & Galleries\, Course Lane\, NEWBURGH\, LANCASHIRE\, WN8 7UB\, United Kingdom
ATTACH;FMTTYPE=image/jpeg:https://edentearoom.com/wp-content/uploads/2024/10/F35F5A2D-BCDB-48F3-B9E9-DE3DCDC1A4B4-scaled.jpeg
ORGANIZER;CN="Eden Tearoom & Galleries":MAILTO:workshops@edentearoom.com
END:VEVENT
BEGIN:VEVENT
DTSTART;TZID=Europe/London:20260325T190000
DTEND;TZID=Europe/London:20260325T203000
DTSTAMP:20260423T063645
CREATED:20260119T115715Z
LAST-MODIFIED:20260119T115752Z
UID:10001210-1774465200-1774470600@edentearoom.com
SUMMARY:Life Drawing Wed 25th March 7pm
DESCRIPTION:Join us for an evening of untaught life drawing with a nude model. Suitable for artists and complete novices alike! \nCome along and have a go\, whether you’re looking to take up a new hobby or just fancy doing something different! \nAll Materials included\, or you’re welcome to bring your own. \n  \nPlease note our Tearoom closes at 5pm so no drinks will be available. Both Entrance gates will be shut\, so please drive via the middle Exit gate. \nWe work hard to price our workshops fairly and offer good value for money. We Therefore have a clear non-refundable & no transfers policy to ensure that we cover our costs and protect the ongoing viability of the workshop. we do appreciate that sometimes unforeseen circumstances may mean that you can’t attend a workshop and we are happy for you to send along a friend to take your place\, we will need their name and contact details prior to the workshop.
URL:https://edentearoom.com/event/life-drawing-wed-25th-march-7pm/
LOCATION:Eden Tearoom & Galleries\, Course Lane\, NEWBURGH\, LANCASHIRE\, WN8 7UB\, United Kingdom
ATTACH;FMTTYPE=image/png:https://edentearoom.com/wp-content/uploads/2024/10/Screenshot-2024-07-11-at-13.39.28.png
ORGANIZER;CN="Eden Tearoom & Galleries":MAILTO:workshops@edentearoom.com
END:VEVENT
BEGIN:VEVENT
DTSTART;TZID=Europe/London:20260325T143000
DTEND;TZID=Europe/London:20260325T160000
DTSTAMP:20260423T063645
CREATED:20251209T142340Z
LAST-MODIFIED:20260322T110147Z
UID:10001162-1774449000-1774454400@edentearoom.com
SUMMARY:Paint The Landscape Watercolour Wed 25th Mar 2:30pm
DESCRIPTION:Landscape in watercolours \nIf you have enjoyed one of Karen’s regular watercolour Wednesday classes and want to build on your skills learned in our 1pm session. \nJoin local artist Karen Buckels to learn techniques for painting floral landscapes using watercolour paint. \nYou will need to have previously attended one of Karen’s classes where the technique of watercolour is taught\, if you haven’t please book on the 1pm class first. \nIf you have your own watercolour materials please do bring them along. \n  \nPlease note that if you wish to use our Tearoom after the workshop you must book via our website as we cannot guarantee availability. \nWe work hard to price our workshops fairly and offer good value for money. We therefore have a clear non-refundable & no transfer policy to ensure that we cover our costs and protect the ongoing viability of the workshop. We do appreciate that sometimes unforeseen circumstances may mean that you can’t attend a workshop and we are happy for you to send along a friend to take your place\, we will need their name and contact details prior to the workshop. \n 
URL:https://edentearoom.com/event/watercolour-landscape-wed-25th-mar-230pm/
LOCATION:Eden Tearoom & Galleries\, Course Lane\, NEWBURGH\, LANCASHIRE\, WN8 7UB\, United Kingdom
ATTACH;FMTTYPE=image/jpeg:https://edentearoom.com/wp-content/uploads/2025/12/floral-landscape-1-1.jpeg
ORGANIZER;CN="Eden Tearoom & Galleries":MAILTO:workshops@edentearoom.com
END:VEVENT
BEGIN:VEVENT
DTSTART;TZID=Europe/London:20260325T130000
DTEND;TZID=Europe/London:20260325T143000
DTSTAMP:20260423T063645
CREATED:20251209T125822Z
LAST-MODIFIED:20260202T110519Z
UID:10001158-1774443600-1774449000@edentearoom.com
SUMMARY:Watercolour Wednesday Wed 25th Mar 1pm
DESCRIPTION:Join us in the gallery for our Watercolour Wednesday afternoon. Got a degree in art or never held a brush before come and paint with Karen. \nIn this session you will be guided step-by-step to create a miniature watercolour landscape painting incorporating a range of techniques. (See photo) All materials provided for this class. \nThis session is very informal and relaxed. It’s taught by veteran watercolour artist Karen Buckels who has spent a lifetime of teaching art. \n“If yours isn’t at the same standard as mine then it’s my fault and NOT YOURS and i’ve never had a failure yet!” ~ Karen Buckels. \nThis session will start at 1pm. \nPlease note that if you wish to use our Tearoom after the workshop you must book via our website as we cannot guarantee availability. \nWe work hard to price our workshops fairly and offer good value for money. We therefore have a clear non-refundable & no transfers policy to ensure that we cover our costs and protect the ongoing viability of the workshop. we do appreciate that sometimes unforeseen circumstances may mean that you can’t attend a workshop and we are happy for you to send along a friend to take your place\, we will need their name and contact details prior to the workshop. \n 
URL:https://edentearoom.com/event/watercolour-wednesday-wed-25th-mar-1pm/
LOCATION:Eden Tearoom & Galleries\, Course Lane\, NEWBURGH\, LANCASHIRE\, WN8 7UB\, United Kingdom
ATTACH;FMTTYPE=image/jpeg:https://edentearoom.com/wp-content/uploads/2025/12/karen-WW-copy.jpg
ORGANIZER;CN="Eden Tearoom & Galleries":MAILTO:workshops@edentearoom.com
END:VEVENT
BEGIN:VEVENT
DTSTART;TZID=Europe/London:20260325T103000
DTEND;TZID=Europe/London:20260325T120000
DTSTAMP:20260423T063645
CREATED:20260306T180725Z
LAST-MODIFIED:20260306T180725Z
UID:10001265-1774434600-1774440000@edentearoom.com
SUMMARY:Potters Wheel Taster Weds 25th March 10.30am
DESCRIPTION:This 90-minute potters wheel taster will introduce you to the basic principles of making a small pot.  You will be shown how to prepare the clay\, centre the clay onto the potters wheel and how to manipulate the clay to create a form.  This class is taught by our professional Pottery Teachers who have years of experience and teaching.  They will give step-by-step instructions\, perform demonstrations and support you in the process.  You will get two 400g balls of clay to create two pots. \nOnce the class is finished\, the work needs 5-7 days to dry out before going into the kiln for its first firing to 1000oC.  After that we will glaze your pieces in colours you have chosen during the class and your work is then re-fired to over 1200oC.  Once cooled and wrapped\, we will contact you for collection.  The whole process takes approximately 2 weeks. \nFor your safety we advise that no open toed shoes are worn\, long hair is tied back and nails are short if possible. We will provide aprons but please wear clothes and shoes you don’t mind getting clay on. Please pass this information onto everyone you are booking places for. \nYour workshop will be run by our Pottery Teacher Christine. \nPlease note these Potters Wheel Tasters are for aged 16+ only.  We run classes specifically for children during the school holidays. \nWorkshop vouchers are available for this workshop. Please email workshops@edentearoom.com for details. \nWe work hard to price our workshops competitively and provide a quality service.  Therefore\, our policy is that no workshop places can be refunded or transferred unless the place can be filled. We understand things can happen and prevent you from attending so we are happy for you to send someone in your place if necessary. If you have any queries regarding this\, please email workshops@edentearoom.com \nIf you wish to use our Tearoom\, please book via our website as we cannot guarantee availability.
URL:https://edentearoom.com/event/potters-wheel-taster-weds-25th-march-10-30am/
LOCATION:Eden Tearoom & Galleries\, Course Lane\, NEWBURGH\, LANCASHIRE\, WN8 7UB\, United Kingdom
ATTACH;FMTTYPE=image/jpeg:https://edentearoom.com/wp-content/uploads/2024/10/IMG_9504.jpeg
ORGANIZER;CN="Eden Tearoom & Galleries":MAILTO:workshops@edentearoom.com
END:VEVENT
BEGIN:VEVENT
DTSTART;TZID=Europe/London:20260324T093000
DTEND;TZID=Europe/London:20260324T153000
DTSTAMP:20260423T063645
CREATED:20260109T204403Z
LAST-MODIFIED:20260306T113308Z
UID:10001199-1774344600-1774366200@edentearoom.com
SUMMARY:Open Studio Access Tues 24th March from 9.30am
DESCRIPTION:Our newly extended Open Studio Access allows you to come and use the pottery workshop facilities to create your own makes.  This can be hand-building projects or on the potters wheel.  You can come for 2\, 4 or 6 hours.  This is not a taught session so although our Pottery Teachers will be on hand for support and advice they will not teach one-to-one. \nIf you book for 2 or 4 hours please email workshops@edentearoom.com to let us know what time you will be attending so we can ensure there is enough room for everyone. \nFrom February 2026 we have a new arrangement starting. Open Access will run every Tuesday from 9.30am – 3.30pm. You must buy your clay from us (cost covers clay\, glazes and 2 firings). Hourly Open Access rates have been reduced.
URL:https://edentearoom.com/event/open-studio-access-tues-24th-march-from-9-30am/
LOCATION:Eden Tearoom & Galleries\, Course Lane\, NEWBURGH\, LANCASHIRE\, WN8 7UB\, United Kingdom
ATTACH;FMTTYPE=image/png:https://edentearoom.com/wp-content/uploads/2022/11/handbuilding-ceramics.png
ORGANIZER;CN="Eden Tearoom & Galleries":MAILTO:workshops@edentearoom.com
END:VEVENT
BEGIN:VEVENT
DTSTART;TZID=Europe/London:20260323T110000
DTEND;TZID=Europe/London:20260323T123000
DTSTAMP:20260423T063646
CREATED:20260202T140956Z
LAST-MODIFIED:20260202T140956Z
UID:10001236-1774263600-1774269000@edentearoom.com
SUMMARY:*NEW* Professional Development - Underglaze & Overglaze Transfers Mon 23rd March 11am
DESCRIPTION:This is a new series of workshops we are running aimed at people who are regular makers and have an interest in developing their skills and knowledge. Each session will focus on a different topic or technique. Please email workshops@edentearoom.com if you have any questions regarding these workshops. \nThis workshop will highlight the two different types of transfers used to add decoration to ceramics.  Any confusion on when and how to apply will be addressed and attendees will get practical experience of using both variations.  All transfers will be provided. \nPlease note we cannot refund or transfer unless your original places are filled.  If you wish to use our Tearoom you must book via our website.
URL:https://edentearoom.com/event/new-professional-development-underglaze-overglaze-transfers-mon-23rd-march-11am/
LOCATION:Eden Tearoom & Galleries\, Course Lane\, NEWBURGH\, LANCASHIRE\, WN8 7UB\, United Kingdom
ATTACH;FMTTYPE=image/jpeg:https://edentearoom.com/wp-content/uploads/2026/02/IMG_4379.jpeg
ORGANIZER;CN="Eden Tearoom & Galleries":MAILTO:workshops@edentearoom.com
END:VEVENT
BEGIN:VEVENT
DTSTART;TZID=Europe/London:20260322T133000
DTEND;TZID=Europe/London:20260322T153000
DTSTAMP:20260423T063646
CREATED:20251209T151622Z
LAST-MODIFIED:20251212T123736Z
UID:10001164-1774186200-1774193400@edentearoom.com
SUMMARY:Candle Making Workshop Sun 22nd Mar 1:30pm
DESCRIPTION:Join Anita from wick-ed Candle Refills for this 2 hour workshop where she will show you the simplest and quickest way to produce luxury natural soy wax scented candles and provide everything you need to do so. Within the workshop we will teach you how to make/refill your own candles and have the confidence to create your own large 250ml scented soy wax candle to take home and enjoy. (RRP approx. £35) We have a small but exceptional collection of fragrances for you to choose from\, all paraben free quality fragrance oils\, speciality blended for us by a UK supplier. \n  \nPlease note that if you wish to use Eden’s first floor Tearoom before of after the workshop\, even for drinks and cake\, you must book a table via the website as availability cannot be guaranteed. \n  \nWe work hard to price our workshop fairly and offer good value for money. We therefore have a clear non-refundable & no transfer policy to ensure that we cover our costs and protect the ongoing viability of the workshop. We do appreciate that sometimes-unforeseen circumstances may mean that you can’t attend a workshop and we are happy for you to send along a friend to take your place\, we will need their name and contact details prior to the workshop \n 
URL:https://edentearoom.com/event/candle-making-workshop-sun-22nd-mar-130pm/
LOCATION:Eden Tearoom & Galleries\, Course Lane\, NEWBURGH\, LANCASHIRE\, WN8 7UB\, United Kingdom
ATTACH;FMTTYPE=image/jpeg:https://edentearoom.com/wp-content/uploads/2025/05/candles.jpeg
END:VEVENT
BEGIN:VEVENT
DTSTART;TZID=Europe/London:20260322T101500
DTEND;TZID=Europe/London:20260322T124500
DTSTAMP:20260423T063646
CREATED:20251209T151115Z
LAST-MODIFIED:20251212T123954Z
UID:10001163-1774174500-1774183500@edentearoom.com
SUMMARY:Calligraphy with Mellor and Rose Sun 22nd Mar 10:15am
DESCRIPTION:Join Mellor & Rose at Eden Tearoom and Galleries in Newburgh\, Lancashire on our Modern Calligraphy Workshop on Sunday March 22nd from 10:15am – 12:45pm! \nJoin us at Eden Tearoom and Galleries in Newburgh\, Lancashire on our Modern Calligraphy Workshop with Spring theme this New Year and start your Calligraphy journey with this mindful\, creative pastime and art form. \nGuided by expert tutors; Lucy Mellor and Polly Mellor\, you will begin by covering the fundamentals of how to hold the dip pen\, learning the pressures and rhythms that give calligraphy its characteristic contrasting strokes before moving onto learning the upper and lower alphabet\, how to link letters\, first words and phrases. You will learn how to draw decorative illustrations and flourishes to complement your calligraphy lettering on stationery pieces. The second half of the workshop covers how to lay out greeting cards\, letter up and design a piece of wall art along with luxury stationery items. \nBOOK YOUR SPOT
URL:https://edentearoom.com/event/calligraphy_mellor-and-rose-sun-22nd-mar-1015am/
LOCATION:Eden Tearoom & Galleries\, Course Lane\, NEWBURGH\, LANCASHIRE\, WN8 7UB\, United Kingdom
ATTACH;FMTTYPE=image/jpeg:https://edentearoom.com/wp-content/uploads/2025/12/Mellor-Rose-Calligraphy-Workshops-Eden-Tearoom-and-Galleries-Lancashire-1536x882-1.jpeg
END:VEVENT
END:VCALENDAR