BEGIN:VCALENDAR
VERSION:2.0
PRODID:-//Eden Tearoom &amp; Galleries - ECPv6.15.20//NONSGML v1.0//EN
CALSCALE:GREGORIAN
METHOD:PUBLISH
X-WR-CALNAME:Eden Tearoom &amp; Galleries
X-ORIGINAL-URL:https://edentearoom.com
X-WR-CALDESC:Events for Eden Tearoom &amp; Galleries
REFRESH-INTERVAL;VALUE=DURATION:PT1H
X-Robots-Tag:noindex
X-PUBLISHED-TTL:PT1H
BEGIN:VTIMEZONE
TZID:Europe/London
BEGIN:DAYLIGHT
TZOFFSETFROM:+0000
TZOFFSETTO:+0100
TZNAME:BST
DTSTART:20250330T010000
END:DAYLIGHT
BEGIN:STANDARD
TZOFFSETFROM:+0100
TZOFFSETTO:+0000
TZNAME:GMT
DTSTART:20251026T010000
END:STANDARD
BEGIN:DAYLIGHT
TZOFFSETFROM:+0000
TZOFFSETTO:+0100
TZNAME:BST
DTSTART:20260329T010000
END:DAYLIGHT
BEGIN:STANDARD
TZOFFSETFROM:+0100
TZOFFSETTO:+0000
TZNAME:GMT
DTSTART:20261025T010000
END:STANDARD
BEGIN:DAYLIGHT
TZOFFSETFROM:+0000
TZOFFSETTO:+0100
TZNAME:BST
DTSTART:20270328T010000
END:DAYLIGHT
BEGIN:STANDARD
TZOFFSETFROM:+0100
TZOFFSETTO:+0000
TZNAME:GMT
DTSTART:20271031T010000
END:STANDARD
END:VTIMEZONE
BEGIN:VEVENT
DTSTART;TZID=Europe/London:20260324T093000
DTEND;TZID=Europe/London:20260324T153000
DTSTAMP:20260423T093752
CREATED:20260109T204403Z
LAST-MODIFIED:20260306T113308Z
UID:10001199-1774344600-1774366200@edentearoom.com
SUMMARY:Open Studio Access Tues 24th March from 9.30am
DESCRIPTION:Our newly extended Open Studio Access allows you to come and use the pottery workshop facilities to create your own makes.  This can be hand-building projects or on the potters wheel.  You can come for 2\, 4 or 6 hours.  This is not a taught session so although our Pottery Teachers will be on hand for support and advice they will not teach one-to-one. \nIf you book for 2 or 4 hours please email workshops@edentearoom.com to let us know what time you will be attending so we can ensure there is enough room for everyone. \nFrom February 2026 we have a new arrangement starting. Open Access will run every Tuesday from 9.30am – 3.30pm. You must buy your clay from us (cost covers clay\, glazes and 2 firings). Hourly Open Access rates have been reduced.
URL:https://edentearoom.com/event/open-studio-access-tues-24th-march-from-9-30am/
LOCATION:Eden Tearoom & Galleries\, Course Lane\, NEWBURGH\, LANCASHIRE\, WN8 7UB\, United Kingdom
ATTACH;FMTTYPE=image/png:https://edentearoom.com/wp-content/uploads/2022/11/handbuilding-ceramics.png
ORGANIZER;CN="Eden Tearoom & Galleries":MAILTO:workshops@edentearoom.com
END:VEVENT
BEGIN:VEVENT
DTSTART;TZID=Europe/London:20260323T110000
DTEND;TZID=Europe/London:20260323T123000
DTSTAMP:20260423T093752
CREATED:20260202T140956Z
LAST-MODIFIED:20260202T140956Z
UID:10001236-1774263600-1774269000@edentearoom.com
SUMMARY:*NEW* Professional Development - Underglaze & Overglaze Transfers Mon 23rd March 11am
DESCRIPTION:This is a new series of workshops we are running aimed at people who are regular makers and have an interest in developing their skills and knowledge. Each session will focus on a different topic or technique. Please email workshops@edentearoom.com if you have any questions regarding these workshops. \nThis workshop will highlight the two different types of transfers used to add decoration to ceramics.  Any confusion on when and how to apply will be addressed and attendees will get practical experience of using both variations.  All transfers will be provided. \nPlease note we cannot refund or transfer unless your original places are filled.  If you wish to use our Tearoom you must book via our website.
URL:https://edentearoom.com/event/new-professional-development-underglaze-overglaze-transfers-mon-23rd-march-11am/
LOCATION:Eden Tearoom & Galleries\, Course Lane\, NEWBURGH\, LANCASHIRE\, WN8 7UB\, United Kingdom
ATTACH;FMTTYPE=image/jpeg:https://edentearoom.com/wp-content/uploads/2026/02/IMG_4379.jpeg
ORGANIZER;CN="Eden Tearoom & Galleries":MAILTO:workshops@edentearoom.com
END:VEVENT
END:VCALENDAR