BEGIN:VCALENDAR
VERSION:2.0
PRODID:-//Eden Tearoom &amp; Galleries - ECPv6.15.20//NONSGML v1.0//EN
CALSCALE:GREGORIAN
METHOD:PUBLISH
X-ORIGINAL-URL:https://edentearoom.com
X-WR-CALDESC:Events for Eden Tearoom &amp; Galleries
REFRESH-INTERVAL;VALUE=DURATION:PT1H
X-Robots-Tag:noindex
X-PUBLISHED-TTL:PT1H
BEGIN:VTIMEZONE
TZID:Europe/London
BEGIN:DAYLIGHT
TZOFFSETFROM:+0000
TZOFFSETTO:+0100
TZNAME:BST
DTSTART:20250330T010000
END:DAYLIGHT
BEGIN:STANDARD
TZOFFSETFROM:+0100
TZOFFSETTO:+0000
TZNAME:GMT
DTSTART:20251026T010000
END:STANDARD
BEGIN:DAYLIGHT
TZOFFSETFROM:+0000
TZOFFSETTO:+0100
TZNAME:BST
DTSTART:20260329T010000
END:DAYLIGHT
BEGIN:STANDARD
TZOFFSETFROM:+0100
TZOFFSETTO:+0000
TZNAME:GMT
DTSTART:20261025T010000
END:STANDARD
BEGIN:DAYLIGHT
TZOFFSETFROM:+0000
TZOFFSETTO:+0100
TZNAME:BST
DTSTART:20270328T010000
END:DAYLIGHT
BEGIN:STANDARD
TZOFFSETFROM:+0100
TZOFFSETTO:+0000
TZNAME:GMT
DTSTART:20271031T010000
END:STANDARD
END:VTIMEZONE
BEGIN:VEVENT
DTSTART;TZID=Europe/London:20260620T103000
DTEND;TZID=Europe/London:20260620T153000
DTSTAMP:20260423T062202
CREATED:20260416T121434Z
LAST-MODIFIED:20260417T082717Z
UID:10001326-1781951400-1781969400@edentearoom.com
SUMMARY:Potters Wheel with Marbled Clay Sat 20th June 10.30am
DESCRIPTION:This is a new workshop aimed at people who have some potters wheel experience. \nThe day will start colouring your clay. This involves wedging coloured pigments into white clay until you have an even colour throughout.  You will need a small range of colours to create the marbled effect. All materials are provided. \nYou will break for lunch at 12.30pm for an hour.  Once you have booked your place\, we will send you a menu to choose your pre ordered food. Your lunch and two drinks are included in the workshop price. \nAfter lunch\, you will use your marbled clay on the potters wheel to create small vessels. You will be shown how to use tools to highlight the marbled effect. \nOnce dried and fired we will clear glaze your pieces and refine.  You can collected your finished pieces at a later date. \nFor your safety we advise that no open toed shoes are worn\, long hair is tied back and nails are short if possible. We will provide aprons but please wear clothes and shoes you don’t mind getting clay on. Please pass this information onto everyone you are booking places for. \nYour workshop will be run by our Pottery Teacher Christine. \nPlease note these Potters Wheel Tasters are for aged 16+ only.  We run classes specifically for children. \nWorkshop vouchers are available. Please email workshops@edentearoom.com for details. \nWe work hard to price our workshops competitively and provide a quality service.  Therefore\, our policy is that no workshop places can be refunded or transferred unless the place can be filled. We understand things can happen and prevent you from attending so we are happy for you to send someone in your place if necessary. If you have any queries regarding this\, please email workshops@edentearoom.com
URL:https://edentearoom.com/event/potters-wheel-with-marbled-clay-sat-20th-june-10-30am/
LOCATION:Eden Tearoom & Galleries\, Course Lane\, NEWBURGH\, LANCASHIRE\, WN8 7UB\, United Kingdom
ATTACH;FMTTYPE=image/jpeg:https://edentearoom.com/wp-content/uploads/2026/04/IMG_0086-e1776341545671.jpeg
ORGANIZER;CN="Eden Tearoom & Galleries":MAILTO:workshops@edentearoom.com
END:VEVENT
END:VCALENDAR