BEGIN:VCALENDAR
VERSION:2.0
PRODID:-//Eden Tearoom &amp; Galleries - ECPv6.15.20//NONSGML v1.0//EN
CALSCALE:GREGORIAN
METHOD:PUBLISH
X-ORIGINAL-URL:https://edentearoom.com
X-WR-CALDESC:Events for Eden Tearoom &amp; Galleries
REFRESH-INTERVAL;VALUE=DURATION:PT1H
X-Robots-Tag:noindex
X-PUBLISHED-TTL:PT1H
BEGIN:VTIMEZONE
TZID:Europe/London
BEGIN:DAYLIGHT
TZOFFSETFROM:+0000
TZOFFSETTO:+0100
TZNAME:BST
DTSTART:20250330T010000
END:DAYLIGHT
BEGIN:STANDARD
TZOFFSETFROM:+0100
TZOFFSETTO:+0000
TZNAME:GMT
DTSTART:20251026T010000
END:STANDARD
BEGIN:DAYLIGHT
TZOFFSETFROM:+0000
TZOFFSETTO:+0100
TZNAME:BST
DTSTART:20260329T010000
END:DAYLIGHT
BEGIN:STANDARD
TZOFFSETFROM:+0100
TZOFFSETTO:+0000
TZNAME:GMT
DTSTART:20261025T010000
END:STANDARD
BEGIN:DAYLIGHT
TZOFFSETFROM:+0000
TZOFFSETTO:+0100
TZNAME:BST
DTSTART:20270328T010000
END:DAYLIGHT
BEGIN:STANDARD
TZOFFSETFROM:+0100
TZOFFSETTO:+0000
TZNAME:GMT
DTSTART:20271031T010000
END:STANDARD
END:VTIMEZONE
BEGIN:VEVENT
DTSTART;TZID=Europe/London:20260610T130000
DTEND;TZID=Europe/London:20260610T143000
DTSTAMP:20260423T032148
CREATED:20260312T134126Z
LAST-MODIFIED:20260415T120315Z
UID:10001294-1781096400-1781101800@edentearoom.com
SUMMARY:Watercolour Wednesday 10th June 1pm
DESCRIPTION:Join us in the gallery for our Watercolour Wednesday afternoon. Got a degree in art or never held a brush before come and paint with Karen. \nIn this session you will be guided step-by-step to create a miniature watercolour landscape painting incorporating a range of techniques. (See photo) All materials provided for this class. \nThis session is very informal and relaxed. It’s taught by veteran watercolour artist Karen Buckels who has spent a lifetime of teaching art. \n“If yours isn’t at the same standard as mine then it’s my fault and NOT YOURS and i’ve never had a failure yet!” ~ Karen Buckels. \nThis session will start at 1pm. \nPlease note that if you wish to use our Tearoom after the workshop you must book via our website as we cannot guarantee availability. \nWe work hard to price our workshops fairly and offer good value for money. We therefore have a clear non-refundable & no transfers policy to ensure that we cover our costs and protect the ongoing viability of the workshop. we do appreciate that sometimes unforeseen circumstances may mean that you can’t attend a workshop and we are happy for you to send along a friend to take your place\, we will need their name and contact details prior to the workshop. \n 
URL:https://edentearoom.com/event/watercolour-wed-10th-june-1pm/
LOCATION:Eden Tearoom & Galleries\, Course Lane\, NEWBURGH\, LANCASHIRE\, WN8 7UB\, United Kingdom
ATTACH;FMTTYPE=image/jpeg:https://edentearoom.com/wp-content/uploads/2025/12/karen-WW-copy.jpg
ORGANIZER;CN="Eden Tearoom & Galleries":MAILTO:workshops@edentearoom.com
END:VEVENT
BEGIN:VEVENT
DTSTART;TZID=Europe/London:20260610T143000
DTEND;TZID=Europe/London:20260610T160000
DTSTAMP:20260423T032148
CREATED:20260312T134547Z
LAST-MODIFIED:20260415T120210Z
UID:10001295-1781101800-1781107200@edentearoom.com
SUMMARY:Paint The Landscape Wed 10th June 2:30pm
DESCRIPTION:Landscape in watercolours \nIf you have enjoyed one of Karen’s regular watercolour Wednesday classes and want to build on your skills learned in our 1pm session. Join local artist Karen Buckels to learn techniques for painting landscapes using watercolour paint. \nYou will need to have previously attended one of Karen’s classes where the technique of watercolour is taught\, if you haven’t please book on the 1pm class first. \nIf you have your own watercolour materials please do bring them along. \n  \nPlease note that if you wish to use our Tearoom after the workshop you must book via our website as we cannot guarantee availability. \nWe work hard to price our workshops fairly and offer good value for money. We therefore have a clear non-refundable & no transfer policy to ensure that we cover our costs and protect the ongoing viability of the workshop. We do appreciate that sometimes unforeseen circumstances may mean that you can’t attend a workshop and we are happy for you to send along a friend to take your place\, we will need their name and contact details prior to the workshop. \n 
URL:https://edentearoom.com/event/paint-the-landscape-wed-10th-june-230pm/
LOCATION:Eden Tearoom & Galleries\, Course Lane\, NEWBURGH\, LANCASHIRE\, WN8 7UB\, United Kingdom
ATTACH;FMTTYPE=image/jpeg:https://edentearoom.com/wp-content/uploads/2025/12/floral-landscape-1-1.jpeg
ORGANIZER;CN="Eden Tearoom & Galleries":MAILTO:workshops@edentearoom.com
END:VEVENT
END:VCALENDAR