BEGIN:VCALENDAR
VERSION:2.0
PRODID:-//Eden Tearoom &amp; Galleries - ECPv6.15.20//NONSGML v1.0//EN
CALSCALE:GREGORIAN
METHOD:PUBLISH
X-WR-CALNAME:Eden Tearoom &amp; Galleries
X-ORIGINAL-URL:https://edentearoom.com
X-WR-CALDESC:Events for Eden Tearoom &amp; Galleries
REFRESH-INTERVAL;VALUE=DURATION:PT1H
X-Robots-Tag:noindex
X-PUBLISHED-TTL:PT1H
BEGIN:VTIMEZONE
TZID:Europe/London
BEGIN:DAYLIGHT
TZOFFSETFROM:+0000
TZOFFSETTO:+0100
TZNAME:BST
DTSTART:20250330T010000
END:DAYLIGHT
BEGIN:STANDARD
TZOFFSETFROM:+0100
TZOFFSETTO:+0000
TZNAME:GMT
DTSTART:20251026T010000
END:STANDARD
BEGIN:DAYLIGHT
TZOFFSETFROM:+0000
TZOFFSETTO:+0100
TZNAME:BST
DTSTART:20260329T010000
END:DAYLIGHT
BEGIN:STANDARD
TZOFFSETFROM:+0100
TZOFFSETTO:+0000
TZNAME:GMT
DTSTART:20261025T010000
END:STANDARD
BEGIN:DAYLIGHT
TZOFFSETFROM:+0000
TZOFFSETTO:+0100
TZNAME:BST
DTSTART:20270328T010000
END:DAYLIGHT
BEGIN:STANDARD
TZOFFSETFROM:+0100
TZOFFSETTO:+0000
TZNAME:GMT
DTSTART:20271031T010000
END:STANDARD
END:VTIMEZONE
BEGIN:VEVENT
DTSTART;TZID=Europe/London:20260530T100000
DTEND;TZID=Europe/London:20260530T123000
DTSTAMP:20260423T031856
CREATED:20260311T093105Z
LAST-MODIFIED:20260311T093105Z
UID:10001287-1780135200-1780144200@edentearoom.com
SUMMARY:Flower Face Vase Sat 30th May 10am
DESCRIPTION:This popular workshop is back just in time for your summer blooms. Our Pottery Teacher Vikki\, will guide you through how to build the basic two parts and join them securely and then you’ll have time on the fun decorating when you can add texture and cut outs to create your own individual piece. \nOnce dried and fired\, you can return at a later date to suit you to glaze. \nPlease note we cannot refund or transfer your bought places unless they can be refilled. \nIf you wish to use our Tearoom\, you must book via our website as we cannot guarantee availability. \n  \n  \n  \n 
URL:https://edentearoom.com/event/flower-face-vase-sat-30th-may-10am/
LOCATION:Eden Tearoom & Galleries\, Course Lane\, NEWBURGH\, LANCASHIRE\, WN8 7UB\, United Kingdom
ATTACH;FMTTYPE=image/jpeg:https://edentearoom.com/wp-content/uploads/2025/06/79882229-EF91-449D-A815-A514B8901D9F-scaled.jpeg
ORGANIZER;CN="Eden Tearoom & Galleries":MAILTO:workshops@edentearoom.com
END:VEVENT
BEGIN:VEVENT
DTSTART;TZID=Europe/London:20260530T133000
DTEND;TZID=Europe/London:20260530T160000
DTSTAMP:20260423T031856
CREATED:20260119T101954Z
LAST-MODIFIED:20260417T080752Z
UID:10001209-1780147800-1780156800@edentearoom.com
SUMMARY:Acrylic Inks Dragonfly Painting Sat 30th May 1:30pm
DESCRIPTION:Join Helen Worthington in this ‘Acrylic Inks Dragonfly Painting’ workshop. \nThis is the perfect opportunity to have a go with the gorgeous colours of Acrylic Inks\, to create your own beautiful painting of a shimmering Dragonfly\, on a background of loose colours and delightful Bullrushes. \nIn this class\, Helen will also teach you how to easily transfer a drawn design onto a painting background ready for painting. This is a useful technique which you’ll be able to use for your own projects in the future.  \nAcrylic Inks are very vibrant\, and once dry\, completely permanent! Therefore\, please ensure you wear suitable clothing which won’t matter if the ink splashes/spills onto it.  \nPlease don’t forget to bring something with you to carry your project home in – a small lidded tray or box will be fine. \nAll levels of experience welcome (age 14 upwards). Full instructions will be given to everyone during this session. \nAll materials will be provided. \n  \nPlease note that if you wish to use Eden’s first floor Tearoom before or after the workshop\, even for drinks and cake\, you must book a table via the website as availability cannot be guaranteed.  \nPlease note that we have a clear non-refundable & no transfer policy to ensure that we cover our costs and protect the ongoing viability of the workshop. We do appreciate that sometimes-unforeseen circumstances may mean that you cant attend a workshop and we are happy for you to send along a friend to take your place\, we will need their name and contact details prior to the workshop.  \n 
URL:https://edentearoom.com/event/acrylic-inks-dragonfly-painting-sat-30th-may-130pm/
LOCATION:Eden Tearoom & Galleries\, Course Lane\, NEWBURGH\, LANCASHIRE\, WN8 7UB\, United Kingdom
ATTACH;FMTTYPE=image/jpeg:https://edentearoom.com/wp-content/uploads/2026/01/Evendawn-arts-Dragonfly-and-Bullrushes-May-26-scaled.jpg
END:VEVENT
END:VCALENDAR