BEGIN:VCALENDAR
VERSION:2.0
PRODID:-//Eden Tearoom &amp; Galleries - ECPv6.15.20//NONSGML v1.0//EN
CALSCALE:GREGORIAN
METHOD:PUBLISH
X-WR-CALNAME:Eden Tearoom &amp; Galleries
X-ORIGINAL-URL:https://edentearoom.com
X-WR-CALDESC:Events for Eden Tearoom &amp; Galleries
REFRESH-INTERVAL;VALUE=DURATION:PT1H
X-Robots-Tag:noindex
X-PUBLISHED-TTL:PT1H
BEGIN:VTIMEZONE
TZID:Europe/London
BEGIN:DAYLIGHT
TZOFFSETFROM:+0000
TZOFFSETTO:+0100
TZNAME:BST
DTSTART:20250330T010000
END:DAYLIGHT
BEGIN:STANDARD
TZOFFSETFROM:+0100
TZOFFSETTO:+0000
TZNAME:GMT
DTSTART:20251026T010000
END:STANDARD
BEGIN:DAYLIGHT
TZOFFSETFROM:+0000
TZOFFSETTO:+0100
TZNAME:BST
DTSTART:20260329T010000
END:DAYLIGHT
BEGIN:STANDARD
TZOFFSETFROM:+0100
TZOFFSETTO:+0000
TZNAME:GMT
DTSTART:20261025T010000
END:STANDARD
BEGIN:DAYLIGHT
TZOFFSETFROM:+0000
TZOFFSETTO:+0100
TZNAME:BST
DTSTART:20270328T010000
END:DAYLIGHT
BEGIN:STANDARD
TZOFFSETFROM:+0100
TZOFFSETTO:+0000
TZNAME:GMT
DTSTART:20271031T010000
END:STANDARD
END:VTIMEZONE
BEGIN:VEVENT
DTSTART;TZID=Europe/London:20260516T093000
DTEND;TZID=Europe/London:20260516T113000
DTSTAMP:20260423T031856
CREATED:20260127T115221Z
LAST-MODIFIED:20260127T130121Z
UID:10001223-1778923800-1778931000@edentearoom.com
SUMMARY:Spring Chunky Knit Merino Wreath Sat 16th May 9:30am
DESCRIPTION:Spring Chunky Knit Merino Wreath\nWelcome spring into your home with this beautifully soft chunky knit wreath\, handmade using 100% pure merino wool. Finished with an adorable matching merino bow\, it’s the perfect statement piece for your door\, wall or mantle. \nAvailable in a gorgeous selection of delicate pastel shades\, each wreath brings a fresh\, cosy touch of spring\, handmade by you! \nIn the workshop\, I’ll teach you how to create the wreath using a wire wreath frame and soft merino wool\, then we will finish with a cute bow. \nChoose your wreath size and pick your spring colour: \nLarge 16” wreath \nMedium 12” wreath \nMerino wool spring colours \nI keep the workshops small so that I can offer individual tuition \n£45 Per Person \nClick Here To Book Your Place
URL:https://edentearoom.com/event/spring-chunky-knit-merino-wreath-sat-16th-may-930am/
LOCATION:Eden Tearoom & Galleries\, Course Lane\, NEWBURGH\, LANCASHIRE\, WN8 7UB\, United Kingdom
ATTACH;FMTTYPE=image/jpeg:https://edentearoom.com/wp-content/uploads/2026/01/Spring-Wreath-May-2026-scaled.jpg
END:VEVENT
BEGIN:VEVENT
DTSTART;TZID=Europe/London:20260516T180000
DTEND;TZID=Europe/London:20260516T203000
DTSTAMP:20260423T031856
CREATED:20260311T084336Z
LAST-MODIFIED:20260415T122848Z
UID:10001284-1778954400-1778963400@edentearoom.com
SUMMARY:Ceramic Greenman Sat 16th May 6-8.30pm
DESCRIPTION:Join Vikki from Victoria Jane Ceramics to create your own Ceramic Greenman\, just in time for the warmer months.  Using provided forms and cutters you will be guided on how to build up the face features and then add leaves and natural details to create your own character.  Once dried and fired\, Vikki will glaze your finished piece in your choice of colour. \nTraditionally\, the Greenman is an ancient symbol of rebirth\, regeneration and the cyclical nature of Spring.  It represents the eternal cycle of growth\, death and rebirth in the turning of the seasons and some view it as a guardian of the Earth.  It is usual to display a Greenman in your garden. \nSuitable for beginners.  Age 16+ only please. \nPlease note\, as this is an evening workshop\, our Tearoom and Gallery will be closed and no refreshments will be available. \nWe cannot transfer or refund your bought places unless they are refilled.
URL:https://edentearoom.com/event/ceramic-greenman-sat-16th-may-6-8pm/
LOCATION:Eden Tearoom & Galleries\, Course Lane\, NEWBURGH\, LANCASHIRE\, WN8 7UB\, United Kingdom
ATTACH;FMTTYPE=image/jpeg:https://edentearoom.com/wp-content/uploads/2024/10/IMG_0386-scaled.jpeg
END:VEVENT
END:VCALENDAR