BEGIN:VCALENDAR
VERSION:2.0
PRODID:-//Eden Tearoom &amp; Galleries - ECPv6.15.20//NONSGML v1.0//EN
CALSCALE:GREGORIAN
METHOD:PUBLISH
X-ORIGINAL-URL:https://edentearoom.com
X-WR-CALDESC:Events for Eden Tearoom &amp; Galleries
REFRESH-INTERVAL;VALUE=DURATION:PT1H
X-Robots-Tag:noindex
X-PUBLISHED-TTL:PT1H
BEGIN:VTIMEZONE
TZID:Europe/London
BEGIN:DAYLIGHT
TZOFFSETFROM:+0000
TZOFFSETTO:+0100
TZNAME:BST
DTSTART:20250330T010000
END:DAYLIGHT
BEGIN:STANDARD
TZOFFSETFROM:+0100
TZOFFSETTO:+0000
TZNAME:GMT
DTSTART:20251026T010000
END:STANDARD
BEGIN:DAYLIGHT
TZOFFSETFROM:+0000
TZOFFSETTO:+0100
TZNAME:BST
DTSTART:20260329T010000
END:DAYLIGHT
BEGIN:STANDARD
TZOFFSETFROM:+0100
TZOFFSETTO:+0000
TZNAME:GMT
DTSTART:20261025T010000
END:STANDARD
BEGIN:DAYLIGHT
TZOFFSETFROM:+0000
TZOFFSETTO:+0100
TZNAME:BST
DTSTART:20270328T010000
END:DAYLIGHT
BEGIN:STANDARD
TZOFFSETFROM:+0100
TZOFFSETTO:+0000
TZNAME:GMT
DTSTART:20271031T010000
END:STANDARD
END:VTIMEZONE
BEGIN:VEVENT
DTSTART;TZID=Europe/London:20260515T170000
DTEND;TZID=Europe/London:20260515T210000
DTSTAMP:20260423T032224
CREATED:20260405T103606Z
LAST-MODIFIED:20260415T122936Z
UID:10001317-1778864400-1778878800@edentearoom.com
SUMMARY:Late Night Open Studio Access Fri 15th May from 5pm
DESCRIPTION:This is an evening Open Studio Access which allows you to come and use the pottery workshop facilities to create your own makes.  This can be hand-building projects or on the potters wheel.  You can come for 2 or 4 hours.  This is not a taught session so although our Pottery Teachers will be on hand for support and advice they will not teach one-to-one. \nIf you book for 2 hours please email workshops@edentearoom.com to let us know what time you will be attending so we can ensure enough room for everyone. \nFrom February 2026 we are changing the structure of our Open Access sessions. You must buy your clay from us (the cost includes your clay\, glazes and 2 firings). Sessions fees will are being reduced. \nPlease note our Tearoom closes at 5pm and refreshments will not be available during this session.
URL:https://edentearoom.com/event/late-night-open-studio-access-fri-15th-may-from-5pm/
LOCATION:Eden Tearoom & Galleries\, Course Lane\, NEWBURGH\, LANCASHIRE\, WN8 7UB\, United Kingdom
ATTACH;FMTTYPE=image/png:https://edentearoom.com/wp-content/uploads/2022/11/handbuilding-ceramics.png
ORGANIZER;CN="Eden Tearoom & Galleries":MAILTO:workshops@edentearoom.com
END:VEVENT
END:VCALENDAR