BEGIN:VCALENDAR
VERSION:2.0
PRODID:-//Eden Tearoom &amp; Galleries - ECPv6.15.20//NONSGML v1.0//EN
CALSCALE:GREGORIAN
METHOD:PUBLISH
X-WR-CALNAME:Eden Tearoom &amp; Galleries
X-ORIGINAL-URL:https://edentearoom.com
X-WR-CALDESC:Events for Eden Tearoom &amp; Galleries
REFRESH-INTERVAL;VALUE=DURATION:PT1H
X-Robots-Tag:noindex
X-PUBLISHED-TTL:PT1H
BEGIN:VTIMEZONE
TZID:Europe/London
BEGIN:DAYLIGHT
TZOFFSETFROM:+0000
TZOFFSETTO:+0100
TZNAME:BST
DTSTART:20250330T010000
END:DAYLIGHT
BEGIN:STANDARD
TZOFFSETFROM:+0100
TZOFFSETTO:+0000
TZNAME:GMT
DTSTART:20251026T010000
END:STANDARD
BEGIN:DAYLIGHT
TZOFFSETFROM:+0000
TZOFFSETTO:+0100
TZNAME:BST
DTSTART:20260329T010000
END:DAYLIGHT
BEGIN:STANDARD
TZOFFSETFROM:+0100
TZOFFSETTO:+0000
TZNAME:GMT
DTSTART:20261025T010000
END:STANDARD
BEGIN:DAYLIGHT
TZOFFSETFROM:+0000
TZOFFSETTO:+0100
TZNAME:BST
DTSTART:20270328T010000
END:DAYLIGHT
BEGIN:STANDARD
TZOFFSETFROM:+0100
TZOFFSETTO:+0000
TZNAME:GMT
DTSTART:20271031T010000
END:STANDARD
END:VTIMEZONE
BEGIN:VEVENT
DTSTART;TZID=Europe/London:20260419T101500
DTEND;TZID=Europe/London:20260419T124500
DTSTAMP:20260419T133732
CREATED:20260117T114238Z
LAST-MODIFIED:20260117T114238Z
UID:10001205-1776593700-1776602700@edentearoom.com
SUMMARY:Modern Calligraphy Sun 19th April 10:15am
DESCRIPTION:Join Mellor & Rose at Eden Tearoom and Galleries in Newburgh\, Lancashire on our Modern Calligraphy Workshop on Sunday April 19th from 10:15am – 12:45pm! \nModern Calligraphy is fun to learn and relaxing to practice. Join us at Eden Tearoom and Galleries in Newburgh\, Lancashire  on our Modern Calligraphy Workshop with Spring theme this New Year and start your Calligraphy journey with this mindful\, creative pastime and art form. \nGuided by expert tutors; Lucy Mellor and Polly Mellor\, you will begin by covering the fundamentals of how to hold the dip pen\, learning the pressures and rhythms that give calligraphy its characteristic contrasting strokes before moving onto learning the upper and lower alphabet\, how to link letters\, first words and phrases. You will learn how to draw decorative illustrations and flourishes to complement your calligraphy lettering on stationery pieces. The second half of the workshop covers how to lay out greeting cards\, letter up and design a piece of wall art along with luxury stationery items. \nBOOK YOUR SPOT\n  \n \n  \nWHAT’S INCLUDED?\nIndividual Calligraphy Box with Fully comprehensive Starter Kit with Dip pen\, Nib\, Mellor & Rose Calligraphy Workbook and take home templates\, wall art and Luxe Stationery Items for your Calligraphy. Calligraphy Box is yours to use in the Workshop and keep forever (and ever!) \n• 2 Workshops Tutors; Lucy Mellor & Polly Mellor on each Workshop to ensure one-to-one tuition throughout the 2 and a half hours. \n• 2.5 Hour Workshop \n• Calligraphy Box includes: \n• Fully comprehensive Starter Kit \n• Calligraphy Workbook \n• Calligraphy Wall Art + Themed Worksheets \n• All Materials provided \n• Seasonally themed Calligraphy Stationery Gift Bag
URL:https://edentearoom.com/event/modern-calligraphy-sun-19th-april-1015am/
LOCATION:Eden Tearoom & Galleries\, Course Lane\, NEWBURGH\, LANCASHIRE\, WN8 7UB\, United Kingdom
ATTACH;FMTTYPE=image/png:https://edentearoom.com/wp-content/uploads/2026/01/Mellor-Rose-Modern-Calligraphy.png
END:VEVENT
BEGIN:VEVENT
DTSTART;TZID=Europe/London:20260419T133000
DTEND;TZID=Europe/London:20260419T153000
DTSTAMP:20260419T133732
CREATED:20260117T111541Z
LAST-MODIFIED:20260219T161233Z
UID:10001201-1776605400-1776612600@edentearoom.com
SUMMARY:Candle Making Sun 19th April 1:30pm
DESCRIPTION:Join Anita from wick-ed Candle Refills for this 2 hour workshop where she will show you the simplest and quickest way to produce luxury natural soy wax scented candles and provide everything you need to do so. Within the workshop we will teach you how to make/refill your own candles and have the confidence to create your own large 250ml scented soy wax candle to take home and enjoy. (RRP approx. £35) We have a small but exceptional collection of fragrances for you to choose from\, all paraben free quality fragrance oils\, speciality blended for us by a UK supplier. \n  \nPlease note that if you wish to use Eden’s first floor Tearoom before of after the workshop\, even for drinks and cake\, you must book a table via the website as availability cannot be guaranteed. \n  \nWe work hard to price our workshop fairly and offer good value for money. We therefore have a clear non-refundable & no transfer policy to ensure that we cover our costs and protect the ongoing viability of the workshop. We do appreciate that sometimes-unforeseen circumstances may mean that you can’t attend a workshop and we are happy for you to send along a friend to take your place\, we will need their name and contact details prior to the workshop \n 
URL:https://edentearoom.com/event/candle-making-sun-19th-april-130pm/
LOCATION:Eden Tearoom & Galleries\, Course Lane\, NEWBURGH\, LANCASHIRE\, WN8 7UB\, United Kingdom
ATTACH;FMTTYPE=image/jpeg:https://edentearoom.com/wp-content/uploads/2025/05/candles.jpeg
END:VEVENT
END:VCALENDAR