BEGIN:VCALENDAR
VERSION:2.0
PRODID:-//Eden Tearoom &amp; Galleries - ECPv6.15.20//NONSGML v1.0//EN
CALSCALE:GREGORIAN
METHOD:PUBLISH
X-WR-CALNAME:Eden Tearoom &amp; Galleries
X-ORIGINAL-URL:https://edentearoom.com
X-WR-CALDESC:Events for Eden Tearoom &amp; Galleries
REFRESH-INTERVAL;VALUE=DURATION:PT1H
X-Robots-Tag:noindex
X-PUBLISHED-TTL:PT1H
BEGIN:VTIMEZONE
TZID:Europe/London
BEGIN:DAYLIGHT
TZOFFSETFROM:+0000
TZOFFSETTO:+0100
TZNAME:BST
DTSTART:20250330T010000
END:DAYLIGHT
BEGIN:STANDARD
TZOFFSETFROM:+0100
TZOFFSETTO:+0000
TZNAME:GMT
DTSTART:20251026T010000
END:STANDARD
BEGIN:DAYLIGHT
TZOFFSETFROM:+0000
TZOFFSETTO:+0100
TZNAME:BST
DTSTART:20260329T010000
END:DAYLIGHT
BEGIN:STANDARD
TZOFFSETFROM:+0100
TZOFFSETTO:+0000
TZNAME:GMT
DTSTART:20261025T010000
END:STANDARD
BEGIN:DAYLIGHT
TZOFFSETFROM:+0000
TZOFFSETTO:+0100
TZNAME:BST
DTSTART:20270328T010000
END:DAYLIGHT
BEGIN:STANDARD
TZOFFSETFROM:+0100
TZOFFSETTO:+0000
TZNAME:GMT
DTSTART:20271031T010000
END:STANDARD
END:VTIMEZONE
BEGIN:VEVENT
DTSTART;TZID=Europe/London:20260409T110000
DTEND;TZID=Europe/London:20260409T114500
DTSTAMP:20260423T031945
CREATED:20260324T114019Z
LAST-MODIFIED:20260324T114019Z
UID:10001305-1775732400-1775735100@edentearoom.com
SUMMARY:Kid’s Potters Wheel Taster Thurs 9th April 11am
DESCRIPTION:This workshop is for children aged 7+ to experience the potters wheel.  You will be guided and helped by our Pottery Teacher Vikki on how to prepare the clay\, fix it to the wheel and how to form a basic pot using just your hands and fingers. \nDue to the strength needed to manipulate the clay and operate the foot peddle this class is not suitable for under 7’s.  Please don’t book a younger child onto this class as they will not be able to participate on the day. \nIf your child has additional needs and will require extra support you will need to be prepared to get involved.  Please email Vikki directly to advise her – vikki@edentearoom.com \nParents and guardians are welcome to stay in the room to watch the class or they may to visit our Tearoom\, although we cannot guarantee availability without booking first. Please remain on the premises during the kid’s class. \nWe work hard to keep our workshops affordable and value for money\, therefore we cannot transfer or refund any bookings unless your original place can be filled.
URL:https://edentearoom.com/event/kids-potters-wheel-taster-thurs-9th-april-11am/
LOCATION:Eden Tearoom & Galleries\, Course Lane\, NEWBURGH\, LANCASHIRE\, WN8 7UB\, United Kingdom
ATTACH;FMTTYPE=image/jpeg:https://edentearoom.com/wp-content/uploads/2022/09/486a7e57-9fdd-471e-9927-b9e3aaba7e0b.jpg
ORGANIZER;CN="Eden Tearoom & Galleries":MAILTO:workshops@edentearoom.com
END:VEVENT
END:VCALENDAR