BEGIN:VCALENDAR
VERSION:2.0
PRODID:-//Eden Tearoom &amp; Galleries - ECPv6.15.20//NONSGML v1.0//EN
CALSCALE:GREGORIAN
METHOD:PUBLISH
X-WR-CALNAME:Eden Tearoom &amp; Galleries
X-ORIGINAL-URL:https://edentearoom.com
X-WR-CALDESC:Events for Eden Tearoom &amp; Galleries
REFRESH-INTERVAL;VALUE=DURATION:PT1H
X-Robots-Tag:noindex
X-PUBLISHED-TTL:PT1H
BEGIN:VTIMEZONE
TZID:Europe/London
BEGIN:DAYLIGHT
TZOFFSETFROM:+0000
TZOFFSETTO:+0100
TZNAME:BST
DTSTART:20250330T010000
END:DAYLIGHT
BEGIN:STANDARD
TZOFFSETFROM:+0100
TZOFFSETTO:+0000
TZNAME:GMT
DTSTART:20251026T010000
END:STANDARD
BEGIN:DAYLIGHT
TZOFFSETFROM:+0000
TZOFFSETTO:+0100
TZNAME:BST
DTSTART:20260329T010000
END:DAYLIGHT
BEGIN:STANDARD
TZOFFSETFROM:+0100
TZOFFSETTO:+0000
TZNAME:GMT
DTSTART:20261025T010000
END:STANDARD
BEGIN:DAYLIGHT
TZOFFSETFROM:+0000
TZOFFSETTO:+0100
TZNAME:BST
DTSTART:20270328T010000
END:DAYLIGHT
BEGIN:STANDARD
TZOFFSETFROM:+0100
TZOFFSETTO:+0000
TZNAME:GMT
DTSTART:20271031T010000
END:STANDARD
END:VTIMEZONE
BEGIN:VEVENT
DTSTART;TZID=Europe/London:20260408T103000
DTEND;TZID=Europe/London:20260408T120000
DTSTAMP:20260423T044750
CREATED:20260206T075506Z
LAST-MODIFIED:20260326T140901Z
UID:10001249-1775644200-1775649600@edentearoom.com
SUMMARY:Kid’s Ceramic Tic Tac Toe Weds 8th April 10.30am
DESCRIPTION:This kid’s clay workshop is suitable for age 7+.  They will be guided on how to create their own ceramic tic tac toe board game (also known as noughts and crosses).  They can design it around their own theme\, be it flowers and butterflies or cartoon characters – the possibilities are endless.  They will add colour on the day and the finished piece can be collected at a later date after drying and firing in the kiln. \nParents and guardians can stay for the workshop but we are limited on space so only one grown up per child.  If you stay\, you must be willing to support and assistant your child.  If you wish to use our Tearoom you may need to book as we cannot guarantee availability. All accompanying adults must stay on Eden premises for the workshop duration. \nPlease only book places for children aged 7+. \nWe work hard to make our workshops affordable and value for money so we cannot refund or transfer places unless your original places can be filled. If you cannot attend you must inform us as soon as possible.
URL:https://edentearoom.com/event/kids-ceramic-tic-tac-toe-weds-8th-april-10-30am/
LOCATION:Eden Tearoom & Galleries\, Course Lane\, NEWBURGH\, LANCASHIRE\, WN8 7UB\, United Kingdom
ATTACH;FMTTYPE=image/jpeg:https://edentearoom.com/wp-content/uploads/2025/06/6C582AFE-CE6E-46A8-A252-3BF2CD8BA62E-scaled.jpeg
ORGANIZER;CN="Eden Tearoom & Galleries":MAILTO:workshops@edentearoom.com
END:VEVENT
BEGIN:VEVENT
DTSTART;TZID=Europe/London:20260408T130000
DTEND;TZID=Europe/London:20260408T143000
DTSTAMP:20260423T044750
CREATED:20260203T120623Z
LAST-MODIFIED:20260326T101620Z
UID:10001241-1775653200-1775658600@edentearoom.com
SUMMARY:Watercolour Wednesday 8th April 1pm
DESCRIPTION:Join us in the gallery for our Watercolour Wednesday afternoon. Got a degree in art or never held a brush before come and paint with Karen. \nIn this session you will be guided step-by-step to create a miniature watercolour landscape painting incorporating a range of techniques. (See photo) All materials provided for this class. \nThis session is very informal and relaxed. It’s taught by veteran watercolour artist Karen Buckels who has spent a lifetime of teaching art. \n“If yours isn’t at the same standard as mine then it’s my fault and NOT YOURS and i’ve never had a failure yet!” ~ Karen Buckels. \nThis session will start at 1pm. \nPlease note that if you wish to use our Tearoom after the workshop you must book via our website as we cannot guarantee availability. \nWe work hard to price our workshops fairly and offer good value for money. We therefore have a clear non-refundable & no transfers policy to ensure that we cover our costs and protect the ongoing viability of the workshop. we do appreciate that sometimes unforeseen circumstances may mean that you can’t attend a workshop and we are happy for you to send along a friend to take your place\, we will need their name and contact details prior to the workshop. \n 
URL:https://edentearoom.com/event/watercolour-wednesday-8th-april-1pm/
LOCATION:Eden Tearoom & Galleries\, Course Lane\, NEWBURGH\, LANCASHIRE\, WN8 7UB\, United Kingdom
ATTACH;FMTTYPE=image/jpeg:https://edentearoom.com/wp-content/uploads/2025/12/karen-WW-copy.jpg
ORGANIZER;CN="Eden Tearoom & Galleries":MAILTO:workshops@edentearoom.com
END:VEVENT
BEGIN:VEVENT
DTSTART;TZID=Europe/London:20260408T143000
DTEND;TZID=Europe/London:20260408T160000
DTSTAMP:20260423T044750
CREATED:20260203T121020Z
LAST-MODIFIED:20260322T110641Z
UID:10001242-1775658600-1775664000@edentearoom.com
SUMMARY:Paint the Landscape Wed 8th April 2:30pm
DESCRIPTION:Paint the landscape  \nIf you have enjoyed one of Karen’s regular watercolour Wednesday classes and want to build on your skills learned in our 1pm session \nJoin local artist Karen Buckels to learn techniques for painting landscapes using watercolour paint. \nYou will need to have previously attended one of Karen’s classes where the technique of watercolour is taught\, if you haven’t please book on the 1pm class first. \nIf you have your own watercolour materials please do bring them along. \n  \nPlease note that if you wish to use our Tearoom after the workshop you must book via our website as we cannot guarantee availability. \nWe work hard to price our workshops fairly and offer good value for money. We therefore have a clear non-refundable & no transfer policy to ensure that we cover our costs and protect the ongoing viability of the workshop. We do appreciate that sometimes unforeseen circumstances may mean that you can’t attend a workshop and we are happy for you to send along a friend to take your place\, we will need their name and contact details prior to the workshop. \n 
URL:https://edentearoom.com/event/paint-the-landscape-wed-8th-april-230pm/
LOCATION:Eden Tearoom & Galleries\, Course Lane\, NEWBURGH\, LANCASHIRE\, WN8 7UB\, United Kingdom
ATTACH;FMTTYPE=image/jpeg:https://edentearoom.com/wp-content/uploads/2025/12/floral-landscape-1-1.jpeg
ORGANIZER;CN="Eden Tearoom & Galleries":MAILTO:workshops@edentearoom.com
END:VEVENT
END:VCALENDAR